BEGIN:VCALENDAR
VERSION:2.0
PRODID:-//Gutenberg College - ECPv6.6.4.2//NONSGML v1.0//EN
CALSCALE:GREGORIAN
METHOD:PUBLISH
X-ORIGINAL-URL:https://gutenberg.edu
X-WR-CALDESC:Events for Gutenberg College
REFRESH-INTERVAL;VALUE=DURATION:PT1H
X-Robots-Tag:noindex
X-PUBLISHED-TTL:PT1H
BEGIN:VTIMEZONE
TZID:America/Los_Angeles
BEGIN:DAYLIGHT
TZOFFSETFROM:-0800
TZOFFSETTO:-0700
TZNAME:PDT
DTSTART:20220313T100000
END:DAYLIGHT
BEGIN:STANDARD
TZOFFSETFROM:-0700
TZOFFSETTO:-0800
TZNAME:PST
DTSTART:20221106T090000
END:STANDARD
BEGIN:DAYLIGHT
TZOFFSETFROM:-0800
TZOFFSETTO:-0700
TZNAME:PDT
DTSTART:20230312T100000
END:DAYLIGHT
BEGIN:STANDARD
TZOFFSETFROM:-0700
TZOFFSETTO:-0800
TZNAME:PST
DTSTART:20231105T090000
END:STANDARD
BEGIN:DAYLIGHT
TZOFFSETFROM:-0800
TZOFFSETTO:-0700
TZNAME:PDT
DTSTART:20240310T100000
END:DAYLIGHT
BEGIN:STANDARD
TZOFFSETFROM:-0700
TZOFFSETTO:-0800
TZNAME:PST
DTSTART:20241103T090000
END:STANDARD
BEGIN:DAYLIGHT
TZOFFSETFROM:-0800
TZOFFSETTO:-0700
TZNAME:PDT
DTSTART:20250309T100000
END:DAYLIGHT
BEGIN:STANDARD
TZOFFSETFROM:-0700
TZOFFSETTO:-0800
TZNAME:PST
DTSTART:20251102T090000
END:STANDARD
END:VTIMEZONE
BEGIN:VEVENT
DTSTART;VALUE=DATE:20250808
DTEND;VALUE=DATE:20250810
DTSTAMP:20260420T015813
CREATED:20250524T015024Z
LAST-MODIFIED:20250828T005412Z
UID:17068-1754611200-1754783999@gutenberg.edu
SUMMARY:2025 Education Conference:Teacher as Mentor
DESCRIPTION:Modern education often presents teachers as specialists tasked with imparting expert knowledge to students. Yet the focus of a specialist in pursuit of imparting facts and information too often becomes overly narrow and overlooks the development of the whole student. This kind of oversight can leave a graduate with major blind spots in his or her understanding and outlook. By contrast\, the teacher as mentor embraces the project of delivering more than subject-specific content and works to cultivate the moral\, spiritual\, and intellectual health of the whole student. In this education conference\, we will explore the nature and practices of mentorship in pursuit of equipping students with tools\, skills\, and wisdom to live faithfully before God. \nSign up for “Conference Update Emails” to receive news of the 2025 Education Conference: Teacher as Mentor. \nGo Here for Conference UpdatesSign Up for Conference Update EmailsRegister for EDCON 2025\nI attended my first Gutenberg Education conference in the summer of 2023 and was surprised by the quality of the conference. Because of that experience\, our school brought 13 faculty and staff in the summer of 2024. The conference was once again exceptional\, affording us an excellent team-building road trip! Both conferences were relaxing and challenging\, the speakers were knowledgeable and approachable\, and the schedule was full\, including a great variety of topics and presenters. The hospitality–food\, coffee\, organization–was wonderful\, and our school was very well taken care of. In my mind\, the Gutenberg Education Conference is a great value\, and it is now a part of our permanent school calendar! Congratulations Gutenberg\, and thank you! \n—Matt Greco\, Head of School for Seattle Classical Christian School
URL:https://gutenberg.edu/event/2025-education-conferenceteacher-as-mentor/
CATEGORIES:Education Conference
ATTACH;FMTTYPE=image/png:https://gutenberg.edu/wp-content/uploads/2025/05/EdCon-2025-Event-Calendar-4.75-x-2-in.png
END:VEVENT
BEGIN:VEVENT
DTSTART;VALUE=DATE:20230811
DTEND;VALUE=DATE:20230813
DTSTAMP:20260420T015813
CREATED:20230521T200002Z
LAST-MODIFIED:20230530T090346Z
UID:13115-1691712000-1691884799@gutenberg.edu
SUMMARY:2023 Education Conference: Faith and Learning
DESCRIPTION:In the last few centuries\, the intellectual world has slowly but steadily abandoned Christianity\, offering alternate secular perspectives to life’s most important questions. As a result\, Christian educators have become suspicious of “academia” and often seek to protect children from secular learning. In this conference\, we will explore the dual goals of pursuing learning and promoting faith. How do we foster faith\, encourage an interest in truth\, model confidence and humility\, and avoid rebellion—all while embedded in a hostile world? Because truth is faith’s greatest ally\, we can embrace open and honest inquiry\, trusting God to turn hearts to Him. \nGo here for details.\nRegister Here for EdCon 2023Sign Up for Conference Update Emails
URL:https://gutenberg.edu/event/2023-education-conference-faith-and-learning/
LOCATION:University Fellowship Church\, 1855 Cal Young Road\, Eugene\, 97401\, United States
CATEGORIES:Education Conference,Featured
ATTACH;FMTTYPE=image/jpeg:https://gutenberg.edu/wp-content/uploads/2023/01/Great-Books-Bible-warm-scaled.jpg
END:VEVENT
BEGIN:VEVENT
DTSTART;TZID=America/Los_Angeles:20221221T080000
DTEND;TZID=America/Los_Angeles:20221221T170000
DTSTAMP:20260420T015813
CREATED:20230125T210206Z
LAST-MODIFIED:20230125T210206Z
UID:13112-1671609600-1671642000@gutenberg.edu
SUMMARY:2023 Education Conference: Faith and Learning
DESCRIPTION:Fundamentally\, educating is the passing on of knowledge and values from one generation to the next to promote living wisely and well. As with all communication\, however\, the “how” of what we say impacts the “what.” A good educator is at root a good learner who models patient listening and skilled questioning. This year we will explore the “how” by focusing on the art of discussion\, where teachers become fellow learners and\, together with students\, cultivate a life-long passion for truth and a life well lived. \nGo here for details. \nRegister[/fusion_text][/fusion_builder_column][/fusion_builder_row][/fusion_builder_container]
URL:https://gutenberg.edu/event/2023-education-conference-faith-and-learning-2/
CATEGORIES:Education Conference
END:VEVENT
END:VCALENDAR