BEGIN:VCALENDAR
VERSION:2.0
PRODID:-//Gutenberg College - ECPv6.6.4.2//NONSGML v1.0//EN
CALSCALE:GREGORIAN
METHOD:PUBLISH
X-ORIGINAL-URL:https://gutenberg.edu
X-WR-CALDESC:Events for Gutenberg College
REFRESH-INTERVAL;VALUE=DURATION:PT1H
X-Robots-Tag:noindex
X-PUBLISHED-TTL:PT1H
BEGIN:VTIMEZONE
TZID:America/Los_Angeles
BEGIN:DAYLIGHT
TZOFFSETFROM:-0800
TZOFFSETTO:-0700
TZNAME:PDT
DTSTART:20260308T100000
END:DAYLIGHT
BEGIN:STANDARD
TZOFFSETFROM:-0700
TZOFFSETTO:-0800
TZNAME:PST
DTSTART:20261101T090000
END:STANDARD
END:VTIMEZONE
BEGIN:VEVENT
DTSTART;TZID=America/Los_Angeles:20260205T180000
DTEND;TZID=America/Los_Angeles:20260205T200000
DTSTAMP:20260422T033019
CREATED:20251205T063054Z
LAST-MODIFIED:20260129T002346Z
UID:17536-1770314400-1770321600@gutenberg.edu
SUMMARY:February 5—Great Books Symposium: Meno
DESCRIPTION:Plato left us a rich collection of dialogues that explore topics ranging from justice and love to knowledge and education. In Meno\, Plato explores the nature of morality\, the essence of knowledge\, and the process of education. In this seminar\, we will examine this dialogue to see how Plato is thinking about the human condition. \nA webinar for K-12 teachers in the private school\, the public school\, and the homeschool. \nMaximum Attendees: 20\, so be sure to reserve your spot early. The session will be recorded and made available to those who have registered. \nMore about the Great Books Symposium \nRegister Here for Zoom AttendanceBrian Julian joined the faculty of Gutenberg College in Fall 2021\, having taught philosophy and writing for several years at colleges in the Boston area. He has a B.A. in liberal arts from Gutenberg College and a Ph.D. in Philosophy from Boston University. He specializes in the history of philosophy and has published research on Aristotle. He writes (and cartoons) for Thinking in the Light\, a website where he aims to make philosophical ideas accessible to a general audience.
URL:https://gutenberg.edu/event/february-5-great-books-symposium-meno/
LOCATION:Online Zoom\, OR
CATEGORIES:Featured,Great Books Symposium
ATTACH;FMTTYPE=image/jpeg:https://gutenberg.edu/wp-content/uploads/2025/09/7_The-Meno.jpg
END:VEVENT
BEGIN:VEVENT
DTSTART;VALUE=DATE:20260220
DTEND;VALUE=DATE:20260222
DTSTAMP:20260422T033019
CREATED:20251207T041931Z
LAST-MODIFIED:20260129T002447Z
UID:17930-1771545600-1771718399@gutenberg.edu
SUMMARY:2026 Winter Preview Days: February 20-21
DESCRIPTION:Gutenberg College is a place for students who want to think deeply\, learn in community\, and grow in faith and character. At Preview Days\, Gutenberg opens its doors to high school students and transfer students who are considering Gutenberg’s bachelor’s degree program in liberal arts. Please join us for Winter Preview Days. \nStudent Registration for Preview DaysPreview Days Parent Track: Parents and guardians are invited to a parallel track during Preview Days to experience the thoughtful\, relational approach that defines Gutenberg. You’ll meet our caring faculty and staff\, learn about our distinctive educational philosophy\, and explore the supportive community within our residence program. The track includes the chance to observe a discussion-based class\, share lunch with students and tutors\, and tour the residence house. We’ll finish with a conversation and Q&A to help you see how Gutenberg walks alongside students as they grow academically\, personally\, and spiritually. \nParent Registration for Preview Days
URL:https://gutenberg.edu/event/2026-winter-preview-days-february-20-21/
LOCATION:Gutenberg College\, 1883 University Street\, Eugene\, OR\, 97403\, United States
CATEGORIES:Featured,Preview Days
ATTACH;FMTTYPE=image/png:https://gutenberg.edu/wp-content/uploads/2025/12/Winter-PREVIEW-DAYS-1_crop-scaled.png
END:VEVENT
END:VCALENDAR