BEGIN:VCALENDAR
VERSION:2.0
PRODID:-//Gutenberg College - ECPv6.6.4.2//NONSGML v1.0//EN
CALSCALE:GREGORIAN
METHOD:PUBLISH
X-WR-CALNAME:Gutenberg College
X-ORIGINAL-URL:https://gutenberg.edu
X-WR-CALDESC:Events for Gutenberg College
REFRESH-INTERVAL;VALUE=DURATION:PT1H
X-Robots-Tag:noindex
X-PUBLISHED-TTL:PT1H
BEGIN:VTIMEZONE
TZID:America/Los_Angeles
BEGIN:DAYLIGHT
TZOFFSETFROM:-0800
TZOFFSETTO:-0700
TZNAME:PDT
DTSTART:20260308T100000
END:DAYLIGHT
BEGIN:STANDARD
TZOFFSETFROM:-0700
TZOFFSETTO:-0800
TZNAME:PST
DTSTART:20261101T090000
END:STANDARD
BEGIN:DAYLIGHT
TZOFFSETFROM:-0800
TZOFFSETTO:-0700
TZNAME:PDT
DTSTART:20270314T100000
END:DAYLIGHT
BEGIN:STANDARD
TZOFFSETFROM:-0700
TZOFFSETTO:-0800
TZNAME:PST
DTSTART:20271107T090000
END:STANDARD
END:VTIMEZONE
BEGIN:VEVENT
DTSTART;TZID=America/Los_Angeles:20260914T180000
DTEND;TZID=America/Los_Angeles:20260914T190000
DTSTAMP:20260422T033736
CREATED:20260417T025717Z
LAST-MODIFIED:20260422T084918Z
UID:18454-1789408800-1789412400@gutenberg.edu
SUMMARY:September 14—Young Philosophers: What Is Truth?
DESCRIPTION:What do we mean when we say something is true? Is truth a quality of something? An abstraction? How and on what basis do we believe things are true? In this session of Young Philosophers\, we will explore the nature of truth and how we know what we know. \nYoung Philosophers is an online discussion for high-school-aged students. Join us for “What Is Truth?” on Monday\, September 14\, 2026\, from 6-7 p.m. PDT. The discussion will be led by Gutenberg tutor Eliot Grasso. \nAttendee Requirements: High-school age\nMaximum Attendees: 20 \nMore about Young Philosophers \nRegister Here for Zoom AttendanceEliot Grasso is the vice president and a tutor at Gutenberg College where he teaches art seminars and leads discussions in Western Civilization and the Great Conversation. Eliot holds a B.A. in music from Goucher College (2005)\, an M.A. in ethnomusicology from the Irish World Academy of Music and Dance at the University of Limerick (2007)\, and a Ph.D. in musicology from the University of Oregon School of Music and Dance (2011). He has performed\, recorded\, taught\, and lectured on Irish traditional music internationally.
URL:https://gutenberg.edu/event/september-14-young-philosophers-what-is-truth/
LOCATION:Online Zoom\, OR
CATEGORIES:Featured,Young Philosophers
ATTACH;FMTTYPE=image/png:https://gutenberg.edu/wp-content/uploads/2020/08/Young-Phil-FB-940x788-px_no-logo-no-text.png
END:VEVENT
BEGIN:VEVENT
DTSTART;TZID=America/Los_Angeles:20261016T081500
DTEND;TZID=America/Los_Angeles:20261017T120000
DTSTAMP:20260422T033736
CREATED:20260421T221458Z
LAST-MODIFIED:20260421T221458Z
UID:18477-1792138500-1792238400@gutenberg.edu
SUMMARY:2026 Fall Preview Days: October 16-17
DESCRIPTION:Gutenberg College is a place for students who want to think deeply\, learn in community\, and grow in faith and character. At Preview Days\, Gutenberg opens its doors to high school students and transfer students who are considering Gutenberg’s bachelor’s degree program in liberal arts. A visit to Gutenberg College is a great way for you to glimpse the fullness of what Gutenberg offers its students. During visits\, students and families observe classes\, meet the faculty\, dialogue with college students\, and get a sense of what it’s like to belong in a community of life-long learners. Please join us for Fall Preview Days. \nLearn More about Preview Days.\n  \nRegister for Preview Days
URL:https://gutenberg.edu/event/2026-fall-preview-days-october-16-17/
LOCATION:Gutenberg College\, 1883 University Street\, Eugene\, OR\, 97403\, United States
CATEGORIES:Featured,Preview Days
ATTACH;FMTTYPE=image/jpeg:https://gutenberg.edu/wp-content/uploads/2025/02/DON05506-scaled.jpg
END:VEVENT
BEGIN:VEVENT
DTSTART;TZID=America/Los_Angeles:20261027T180000
DTEND;TZID=America/Los_Angeles:20261027T190000
DTSTAMP:20260422T033736
CREATED:20260421T222013Z
LAST-MODIFIED:20260421T221730Z
UID:18460-1793124000-1793127600@gutenberg.edu
SUMMARY:October 27—Young Philosophers: What Is Community?
DESCRIPTION:In a cultural landscape where institutions tend to dominate\, what\, then\, is a community? Is it built of rules and procedures? Friendship? Common interests? What is the texture of a community\, and how can we tell if we are part of one? In this session of Young Philosophers\, we will explore the nature of community. \nYoung Philosophers is an online discussion for high-school-aged students. Join us for “What Is Community?” on Tuesday\, October 27\, 2026\, from 6-7 p.m. PDT. The discussion will be led by Gutenberg tutor Eliot Grasso. \nAttendee Requirements: High-school age\nMaximum Attendees: 20 \nMore about Young Philosophers \nRegister Here for Zoom AttendanceEliot Grasso is the vice president and a tutor at Gutenberg College where he teaches art seminars and leads discussions in Western Civilization and the Great Conversation. Eliot holds a B.A. in music from Goucher College (2005)\, an M.A. in ethnomusicology from the Irish World Academy of Music and Dance at the University of Limerick (2007)\, and a Ph.D. in musicology from the University of Oregon School of Music and Dance (2011). He has performed\, recorded\, taught\, and lectured on Irish traditional music internationally.
URL:https://gutenberg.edu/event/october-27-young-philosophers-what-is-community/
LOCATION:Online Zoom\, OR
CATEGORIES:Featured,Young Philosophers
ATTACH;FMTTYPE=image/png:https://gutenberg.edu/wp-content/uploads/2020/08/Young-Phil-FB-940x788-px_no-logo-no-text.png
END:VEVENT
BEGIN:VEVENT
DTSTART;TZID=America/Los_Angeles:20270222T180000
DTEND;TZID=America/Los_Angeles:20270222T190000
DTSTAMP:20260422T033736
CREATED:20260421T222531Z
LAST-MODIFIED:20260421T221712Z
UID:18467-1803319200-1803322800@gutenberg.edu
SUMMARY:February 22—Young Philosophers: What Is Virtue?
DESCRIPTION:Virtue is central to living a good life. In this session of Young Philosophers\, we will explore the classical Greek notion of virtue as presented in Plato’s dialogue Meno. We will also compare this notion of virtue with the Hebrew notion of wisdom as presented in the Bible. \nYoung Philosophers is an online discussion for high-school-aged students. Join us for “What Is Virtue?” on Monday\, February 22\, 2027\, from 6-7 p.m. PST. The discussion will be led by Gutenberg tutor Eliot Grasso. \nAttendee Requirements: High-school age\nMaximum Attendees: 20 \nMore about Young Philosophers \nRegister Here for Zoom AttendanceEliot Grasso is the vice president and a tutor at Gutenberg College where he teaches art seminars and leads discussions in Western Civilization and the Great Conversation. Eliot holds a B.A. in music from Goucher College (2005)\, an M.A. in ethnomusicology from the Irish World Academy of Music and Dance at the University of Limerick (2007)\, and a Ph.D. in musicology from the University of Oregon School of Music and Dance (2011). He has performed\, recorded\, taught\, and lectured on Irish traditional music internationally.
URL:https://gutenberg.edu/event/february-22-young-philosophers-what-is-virtue/
LOCATION:Online Zoom\, OR
CATEGORIES:Featured,Young Philosophers
ATTACH;FMTTYPE=image/png:https://gutenberg.edu/wp-content/uploads/2020/08/Young-Phil-FB-940x788-px_no-logo-no-text.png
END:VEVENT
END:VCALENDAR